BEGIN:VCALENDAR
VERSION:2.0
PRODID:-//My Calendar//http://www.joedolson.com//v3.2.17//EN
METHOD:PUBLISH
CALSCALE:GREGORIAN
X-WR-CALNAME:Kids &#039;N Dance &#039;N Theater Arts
X-PUBLISHED-TTL:PT24H
REFRESH-INTERVAL;VALUE=DURATION:PT24H
X-WR-CALDESC:Events from Kids &#039;N Dance &#039;N Theater Arts
BEGIN:VEVENT
UID:19-19
LOCATION:
SUMMARY:Cinderella Show (Thurs. Cast) Orinda JaimeLee
DTSTAMP:20170325T133000
ORGANIZER;CN=krism:MAILTO:kidsndance.mac@mac.com
DTSTART;TZID=Etc/GMT+0:20170325T133000
DTEND;TZID=Etc/GMT+0:20170325T143000
URL;VALUE=URI:http://kidsndance.com/my-calendar/
DESCRIPTION:Sound/Light: AaronBackstage: Bonnie, ___________, ___________ 
CATEGORIES:1
END:VEVENT
BEGIN:VEVENT
UID:17-17
LOCATION:
SUMMARY:Cinderella Show (Wed. Cast) Orinda JaimeLee
DTSTAMP:20170325T113000
ORGANIZER;CN=krism:MAILTO:kidsndance.mac@mac.com
DTSTART;TZID=Etc/GMT+0:20170325T113000
DTEND;TZID=Etc/GMT+0:20170325T123000
URL;VALUE=URI:http://kidsndance.com/my-calendar/
DESCRIPTION:Sound/Lights:AaronBackstage: Bonnie, ___________, ___________ 
CATEGORIES:1
END:VEVENT
BEGIN:VEVENT
UID:15-15
LOCATION:
SUMMARY:Cinderella Show Orinda JaimeLee Monday
DTSTAMP:20170325T160000
ORGANIZER;CN=krism:MAILTO:kidsndance.mac@mac.com
DTSTART;TZID=Etc/GMT+0:20170325T160000
DTEND;TZID=Etc/GMT+0:20170325T170000
URL;VALUE=URI:http://kidsndance.com/my-calendar/
DESCRIPTION:Sound/Lights:AaronBackstage: JaimeLee, ___________, ___________ 
CATEGORIES:1
END:VEVENT
BEGIN:VEVENT
UID:9-9
LOCATION:
SUMMARY:Shrek Show Maitland Montclair
DTSTAMP:20170325T163000
ORGANIZER;CN=krism:MAILTO:kidsndance.mac@mac.com
DTSTART;TZID=Etc/GMT+0:20170325T163000
DTEND;TZID=Etc/GMT+0:20170325T173000
URL;VALUE=URI:http://kidsndance.com/my-calendar/
DESCRIPTION:Sound/lights: Megan, Backstage: Macey, Maitland, Joesph RachelTickets  3:30-5:30pm: Jennifer 
CATEGORIES:1
END:VEVENT
BEGIN:VEVENT
UID:7-7
LOCATION:
SUMMARY:Shrek Show Maitland Wed
DTSTAMP:20170325T140000
ORGANIZER;CN=krism:MAILTO:kidsndance.mac@mac.com
DTSTART;TZID=Etc/GMT+0:20170325T140000
DTEND;TZID=Etc/GMT+0:20170325T150000
URL;VALUE=URI:http://kidsndance.com/my-calendar/
DESCRIPTION:Sound/lights:  Rachel , Backstage: Macey, Maitland, CindyTickets 3/25 1:00-3:00pm: Jennifer 
CATEGORIES:1
END:VEVENT
BEGIN:VEVENT
UID:3-3
LOCATION:
SUMMARY:Shrek Show-Kris Thurs.
DTSTAMP:20170325T190000
ORGANIZER;CN=krism:MAILTO:kidsndance.mac@mac.com
DTSTART;TZID=Etc/GMT+0:20170325T190000
DTEND;TZID=Etc/GMT+0:20170325T200000
URL;VALUE=URI:http://kidsndance.com/my-calendar/
DESCRIPTION:Sound/lights:  Kris , Backstage: Macey, Joesph, RachelTickets 3/25 6:00-8:00:_ Jennifer 
CATEGORIES:1
END:VEVENT
BEGIN:VEVENT
UID:18-18
LOCATION:
SUMMARY:Cinderella Rehearsal (Thurs. Cast) Orinda JaimeLeen
DTSTAMP:20170323T160000
ORGANIZER;CN=krism:MAILTO:kidsndance.mac@mac.com
DTSTART;TZID=Etc/GMT+0:20170323T160000
DTEND;TZID=Etc/GMT+0:20170323T180000
URL;VALUE=URI:http://kidsndance.com/my-calendar/
DESCRIPTION:Sound/Lights: AaronBackstage: Bonnie, ___________, ___________ 
CATEGORIES:1
END:VEVENT
BEGIN:VEVENT
UID:16-16
LOCATION:
SUMMARY:Cinderella Rehearsal (Wed. Cast) Orinda JaimeLee
DTSTAMP:20170322T160000
ORGANIZER;CN=krism:MAILTO:kidsndance.mac@mac.com
DTSTART;TZID=Etc/GMT+0:20170322T160000
DTEND;TZID=Etc/GMT+0:20170322T180000
URL;VALUE=URI:http://kidsndance.com/my-calendar/
DESCRIPTION:Sound/Lights:AaronBackstage: Bonnie, ___________, ___________ 
CATEGORIES:1
END:VEVENT
BEGIN:VEVENT
UID:14-14
LOCATION:
SUMMARY:Cinderella Rehearsal Monday Cast JaimeLee Orinda
DTSTAMP:20170320T153000
ORGANIZER;CN=krism:MAILTO:kidsndance.mac@mac.com
DTSTART;TZID=Etc/GMT+0:20170320T153000
DTEND;TZID=Etc/GMT+0:20170320T170000
URL;VALUE=URI:http://kidsndance.com/my-calendar/
DESCRIPTION:Sound/Lights: AaronBackstage: JaimeLee, ___________, ___________ 
CATEGORIES:1
END:VEVENT
BEGIN:VEVENT
UID:13-13
LOCATION:
SUMMARY:Matilda Hillcrest Show (Blue Cast)
DTSTAMP:20170326T190000
ORGANIZER;CN=krism:MAILTO:kidsndance.mac@mac.com
DTSTART;TZID=Etc/GMT+0:20170326T190000
DTEND;TZID=Etc/GMT+0:20170326T200000
URL;VALUE=URI:http://kidsndance.com/my-calendar/
DESCRIPTION:Sound/lights:  Kris , Backstage: Macey, Maitland, Rachel  JasmineTickets 3/26 6:00-8:00pm: JenniferRISER BREAK DOWN 8:00-9:00 with Hillcrest parents 
CATEGORIES:1
END:VEVENT
BEGIN:VEVENT
UID:4-4
LOCATION:
SUMMARY:Shrek Show-Kris Thurs.
DTSTAMP:20170326T140000
ORGANIZER;CN=krism:MAILTO:kidsndance.mac@mac.com
DTSTART;TZID=Etc/GMT+0:20170326T140000
DTEND;TZID=Etc/GMT+0:20170326T150000
URL;VALUE=URI:http://kidsndance.com/my-calendar/
DESCRIPTION:Sound/lights:  Kris , Backstage: Macey, Joesph, RachelTickets 3/26 1:00-3:00:_ Jennifer&nbsp; 
CATEGORIES:1
END:VEVENT
BEGIN:VEVENT
UID:12-12
LOCATION:
SUMMARY:(Blue Cast) Matilda Dress rehearsal Kris Hillcrest
DTSTAMP:20170319T163000
ORGANIZER;CN=krism:MAILTO:kidsndance.mac@mac.com
DTSTART;TZID=Etc/GMT+0:20170319T163000
DTEND;TZID=Etc/GMT+0:20170319T183000
URL;VALUE=URI:http://kidsndance.com/my-calendar/
DESCRIPTION:Sound/lights:  Kris , Backstage: Macey, Maitland, Rachel   Jasmine 
CATEGORIES:1
END:VEVENT
BEGIN:VEVENT
UID:10-10
LOCATION:
SUMMARY:(Red cast) Matilda Dress rehearsal Maitland Hillcrest
DTSTAMP:20170319T140000
ORGANIZER;CN=krism:MAILTO:kidsndance.mac@mac.com
DTSTART;TZID=Etc/GMT+0:20170319T140000
DTEND;TZID=Etc/GMT+0:20170319T160000
URL;VALUE=URI:http://kidsndance.com/my-calendar/
DESCRIPTION:Sound/lights: Kris_Backstage: Macey, Maitland, Rachel     Jasmine 
CATEGORIES:1
END:VEVENT
BEGIN:VEVENT
UID:8-8
LOCATION:
SUMMARY:Shrek Dress rehearsal Maitland Wednesday
DTSTAMP:20170318T180000
ORGANIZER;CN=krism:MAILTO:kidsndance.mac@mac.com
DTSTART;TZID=Etc/GMT+0:20170318T180000
DTEND;TZID=Etc/GMT+0:20170318T200000
URL;VALUE=URI:http://kidsndance.com/my-calendar/
DESCRIPTION:Sound/lights: Megan, Backstage: Macey, Maitland, Joesph Rachel 
CATEGORIES:1
END:VEVENT
BEGIN:VEVENT
UID:5-5
LOCATION:
SUMMARY:Shrek Dress rehearsal Maitland Wednesday
DTSTAMP:20170318T160000
ORGANIZER;CN=krism:MAILTO:kidsndance.mac@mac.com
DTSTART;TZID=Etc/GMT+0:20170318T160000
DTEND;TZID=Etc/GMT+0:20170318T180000
URL;VALUE=URI:http://kidsndance.com/my-calendar/
DESCRIPTION:Sound/lights: Rachel, Backstage: Macey, Maitland, Cindy 
CATEGORIES:1
END:VEVENT
BEGIN:VEVENT
UID:2-2
LOCATION:
SUMMARY:Shrek Dress rehearsal Thurs. cast
DTSTAMP:20170318T140000
ORGANIZER;CN=krism:MAILTO:kidsndance.mac@mac.com
DTSTART;TZID=Etc/GMT+0:20170318T140000
DTEND;TZID=Etc/GMT+0:20170318T160000
URL;VALUE=URI:http://kidsndance.com/my-calendar/
DESCRIPTION:Sound/lights:  Kris , Backstage: Macey, Joesph, Rachel 
CATEGORIES:1
END:VEVENT
BEGIN:VEVENT
UID:6-6
LOCATION:
SUMMARY:Shrek Show Maitland Wed
DTSTAMP:20170324T191500
ORGANIZER;CN=krism:MAILTO:kidsndance.mac@mac.com
DTSTART;TZID=Etc/GMT+0:20170324T191500
DTEND;TZID=Etc/GMT+0:20170324T201500
URL;VALUE=URI:http://kidsndance.com/my-calendar/
DESCRIPTION:Sound/lights: Rachel, Backstage: Macey, Maitland, CindyTickets 3/24 6:15-8:15pm: Jennifer 
CATEGORIES:1
END:VEVENT
END:VCALENDAR